BEGIN:VCALENDAR
VERSION:2.0
PRODID:-//Wave Church - ECPv6.6.4.2//NONSGML v1.0//EN
CALSCALE:GREGORIAN
METHOD:PUBLISH
X-WR-CALNAME:Wave Church
X-ORIGINAL-URL:https://wavechurch.com
X-WR-CALDESC:Events for Wave Church
REFRESH-INTERVAL;VALUE=DURATION:PT1H
X-Robots-Tag:noindex
X-PUBLISHED-TTL:PT1H
BEGIN:VTIMEZONE
TZID:America/New_York
BEGIN:DAYLIGHT
TZOFFSETFROM:-0500
TZOFFSETTO:-0400
TZNAME:EDT
DTSTART:20260308T070000
END:DAYLIGHT
BEGIN:STANDARD
TZOFFSETFROM:-0400
TZOFFSETTO:-0500
TZNAME:EST
DTSTART:20261101T060000
END:STANDARD
END:VTIMEZONE
BEGIN:VEVENT
DTSTART;TZID=America/New_York:20260506T193000
DTEND;TZID=America/New_York:20260506T213000
DTSTAMP:20260423T091813
CREATED:20260121T171443Z
LAST-MODIFIED:20260121T171443Z
UID:22248-1778095800-1778103000@wavechurch.com
SUMMARY:Young Adults Service
DESCRIPTION:Young adults exists to have a place to meet friends and grow in their relationship with God. \nWe meet the first Wednesday of every month at our Wave Norfolk campus\, and would love for you to join us for our upcoming services. \n6:45 PM – Leaders Rally | 7:30 PM – Service Starts \nWho is this service for?  \nOur aim at Young Adults is to provide a worship experience and community for those between the ages of 18-30\, regardless of what stage of life you are in. This could look like married with kids\, single and in college. \nWhere is the best place to park? \nThe best place to park is in the Freemason Garage\, is located directly behind the Wave Norfolk campus and is a short walking distance. 161 W Freemason St\, Norfolk\, VA 23510 \nYou can learn more about our Young Adults ministry by clicking here.
URL:https://wavechurch.com/event/young-adults-service-5/
LOCATION:NEW Norfolk Campus\, 120 College Place Norfolk\, VA 23510\, Norfolk\, VA\, 23510\, United States
CATEGORIES:Online,Great Neck,Seaboard,Norfolk
ATTACH;FMTTYPE=image/jpeg:https://wavechurch.com/wp-content/uploads/2025/04/YoungAdults.jpg
END:VEVENT
BEGIN:VEVENT
DTSTART;VALUE=DATE:20260510
DTEND;VALUE=DATE:20260511
DTSTAMP:20260423T091813
CREATED:20260121T170531Z
LAST-MODIFIED:20260121T170531Z
UID:22237-1778371200-1778457599@wavechurch.com
SUMMARY:Baby Dedications
DESCRIPTION:We follow the Biblical pattern of dedicating children to the Lord. Jesus Himself was dedicated in the temple by his parents\, establishing dedication as a New Testament principle (Luke 2:22). We dedicate children on the second Sunday of every month following the service with a reception afterwards. This is a great time of celebration and introducing extended family and friends to Wave Church! \nTo register your child for this month’s baby dedication\, please CLICK HERE!
URL:https://wavechurch.com/event/baby-dedications-18/
CATEGORIES:Online,Great Neck,Seaboard,Norfolk,Richmond,Wilson
ATTACH;FMTTYPE=image/jpeg:https://wavechurch.com/wp-content/uploads/2023/12/Simple-Line-Modern-Logo-for-Newborn-Baby-Photographer-Presentation.jpg
END:VEVENT
BEGIN:VEVENT
DTSTART;VALUE=DATE:20260511
DTEND;VALUE=DATE:20260517
DTSTAMP:20260423T091813
CREATED:20260423T010227Z
LAST-MODIFIED:20260423T010227Z
UID:22430-1778457600-1778975999@wavechurch.com
SUMMARY:2026 Mens Motorcycle Trip
DESCRIPTION:20th Annual to The Tail of the Dragon
URL:https://wavechurch.com/event/2026-mens-motorcycle-trip/
ORGANIZER;CN="Wave Church":MAILTO:events@wavechurch.com
END:VEVENT
BEGIN:VEVENT
DTSTART;TZID=America/New_York:20260529T190000
DTEND;TZID=America/New_York:20260530T130000
DTSTAMP:20260423T091813
CREATED:20260418T004046Z
LAST-MODIFIED:20260418T014003Z
UID:22419-1780081200-1780146000@wavechurch.com
SUMMARY:Marriage Weekend
DESCRIPTION:Join us for an unforgettable Marriage Weekend at Wave Church\, hosted by Pastors Steve & Sharon Kelly\, with special guests Chip & Coleen Judd. This weekend is designed to strengthen\, encourage\, and refresh your relationship as you and your spouse invest intentionally in your marriage. \nThrough engaging sessions and real\, practical conversations\, we’ll cover a variety of topics that every couple faces—helping you grow deeper in connection\, communication\, and purpose together. Whether you’re newly engaged or have been married for years\, this will be an inspiring time to refocus and build a stronger foundation. \nThis event is open to engaged and married couples only. \nChildcare is available! If you plan to bring your children\, please be sure to add them during registration so we can best prepare for their care. \nYou can join us from one of three locations:  \n\nWave Church Great Neck: 1000 N Great Neck Rd Virginia Beach\, VA 23454\nWave Church RVA: 11801 Nuckols Rd Glen Allen\, VA 23059\nWave Church Wilson: 5334 Lamm Rd Wilson\, NC 27893
URL:https://wavechurch.com/event/marraige-weekend/
CATEGORIES:Great Neck,Seaboard,Norfolk,Richmond,Wilson
ATTACH;FMTTYPE=image/jpeg:https://wavechurch.com/wp-content/uploads/2026/04/MarriageWeekend_1920x1080_V3_WithTextCode-1.jpg
END:VEVENT
BEGIN:VEVENT
DTSTART;TZID=America/New_York:20260603T193000
DTEND;TZID=America/New_York:20260603T213000
DTSTAMP:20260423T091813
CREATED:20260121T171515Z
LAST-MODIFIED:20260121T171515Z
UID:22249-1780515000-1780522200@wavechurch.com
SUMMARY:Young Adults Service
DESCRIPTION:Young adults exists to have a place to meet friends and grow in their relationship with God. \nWe meet the first Wednesday of every month at our Wave Norfolk campus\, and would love for you to join us for our upcoming services. \n6:45 PM – Leaders Rally | 7:30 PM – Service Starts \nWho is this service for?  \nOur aim at Young Adults is to provide a worship experience and community for those between the ages of 18-30\, regardless of what stage of life you are in. This could look like married with kids\, single and in college. \nWhere is the best place to park? \nThe best place to park is in the Freemason Garage\, is located directly behind the Wave Norfolk campus and is a short walking distance. 161 W Freemason St\, Norfolk\, VA 23510 \nYou can learn more about our Young Adults ministry by clicking here.
URL:https://wavechurch.com/event/young-adults-service-6/
LOCATION:NEW Norfolk Campus\, 120 College Place Norfolk\, VA 23510\, Norfolk\, VA\, 23510\, United States
CATEGORIES:Online,Great Neck,Seaboard,Norfolk
ATTACH;FMTTYPE=image/jpeg:https://wavechurch.com/wp-content/uploads/2025/04/YoungAdults.jpg
END:VEVENT
BEGIN:VEVENT
DTSTART;VALUE=DATE:20260608
DTEND;VALUE=DATE:20260613
DTSTAMP:20260423T091813
CREATED:20260413T172804Z
LAST-MODIFIED:20260413T173626Z
UID:22415-1780876800-1781308799@wavechurch.com
SUMMARY:Vacation Bible School @ Wilson Campus
DESCRIPTION:Get ready for the ultimate summer adventure at Wave Church with our “Kingdom Quest” VBS! This isn’t just any VBS—it’s an action-packed\, high-energy experience filled with excitement\, movement\, and powerful lessons from God’s Word. Come laugh\, learn\, and make unforgettable memories as we dive into faith like never before!
URL:https://wavechurch.com/event/vacation-bible-school/
CATEGORIES:Wilson
ATTACH;FMTTYPE=image/jpeg:https://wavechurch.com/wp-content/uploads/2026/04/kqsocialcover-1.jpg
END:VEVENT
BEGIN:VEVENT
DTSTART;VALUE=DATE:20260614
DTEND;VALUE=DATE:20260615
DTSTAMP:20260423T091813
CREATED:20260121T170559Z
LAST-MODIFIED:20260121T170559Z
UID:22238-1781395200-1781481599@wavechurch.com
SUMMARY:Baby Dedications
DESCRIPTION:We follow the Biblical pattern of dedicating children to the Lord. Jesus Himself was dedicated in the temple by his parents\, establishing dedication as a New Testament principle (Luke 2:22). We dedicate children on the second Sunday of every month following the service with a reception afterwards. This is a great time of celebration and introducing extended family and friends to Wave Church! \nTo register your child for this month’s baby dedication\, please CLICK HERE!
URL:https://wavechurch.com/event/baby-dedications-19/
CATEGORIES:Online,Great Neck,Seaboard,Norfolk,Richmond,Wilson
ATTACH;FMTTYPE=image/jpeg:https://wavechurch.com/wp-content/uploads/2023/12/Simple-Line-Modern-Logo-for-Newborn-Baby-Photographer-Presentation.jpg
END:VEVENT
BEGIN:VEVENT
DTSTART;VALUE=DATE:20260615
DTEND;VALUE=DATE:20260620
DTSTAMP:20260423T091813
CREATED:20260413T173356Z
LAST-MODIFIED:20260423T011553Z
UID:22416-1781481600-1781913599@wavechurch.com
SUMMARY:Vacation Bible School @ Great Neck\, Seaboard\, Norfolk
DESCRIPTION:Get ready for the ultimate summer adventure at Wave Church with our “Kingdom Quest” VBS! This isn’t just any VBS—it’s an action-packed\, high-energy experience filled with excitement\, movement\, and powerful lessons from God’s Word. Come laugh\, learn\, and make unforgettable memories as we dive into faith like never before!
URL:https://wavechurch.com/event/vacation-bible-school-great-neck-seaboard-norfolk/
CATEGORIES:Great Neck,Seaboard,Norfolk
ATTACH;FMTTYPE=image/jpeg:https://wavechurch.com/wp-content/uploads/2026/04/kqsocialcover-1.jpg
END:VEVENT
BEGIN:VEVENT
DTSTART;TZID=America/New_York:20260701T193000
DTEND;TZID=America/New_York:20260701T213000
DTSTAMP:20260423T091813
CREATED:20260121T171548Z
LAST-MODIFIED:20260121T171548Z
UID:22250-1782934200-1782941400@wavechurch.com
SUMMARY:Young Adults Service
DESCRIPTION:Young adults exists to have a place to meet friends and grow in their relationship with God. \nWe meet the first Wednesday of every month at our Wave Norfolk campus\, and would love for you to join us for our upcoming services. \n6:45 PM – Leaders Rally | 7:30 PM – Service Starts \nWho is this service for?  \nOur aim at Young Adults is to provide a worship experience and community for those between the ages of 18-30\, regardless of what stage of life you are in. This could look like married with kids\, single and in college. \nWhere is the best place to park? \nThe best place to park is in the Freemason Garage\, is located directly behind the Wave Norfolk campus and is a short walking distance. 161 W Freemason St\, Norfolk\, VA 23510 \nYou can learn more about our Young Adults ministry by clicking here.
URL:https://wavechurch.com/event/young-adults-service-7/
LOCATION:NEW Norfolk Campus\, 120 College Place Norfolk\, VA 23510\, Norfolk\, VA\, 23510\, United States
CATEGORIES:Online,Great Neck,Seaboard,Norfolk
ATTACH;FMTTYPE=image/jpeg:https://wavechurch.com/wp-content/uploads/2025/04/YoungAdults.jpg
END:VEVENT
BEGIN:VEVENT
DTSTART;VALUE=DATE:20260712
DTEND;VALUE=DATE:20260713
DTSTAMP:20260423T091813
CREATED:20260121T170625Z
LAST-MODIFIED:20260121T170625Z
UID:22239-1783814400-1783900799@wavechurch.com
SUMMARY:Baby Dedications
DESCRIPTION:We follow the Biblical pattern of dedicating children to the Lord. Jesus Himself was dedicated in the temple by his parents\, establishing dedication as a New Testament principle (Luke 2:22). We dedicate children on the second Sunday of every month following the service with a reception afterwards. This is a great time of celebration and introducing extended family and friends to Wave Church! \nTo register your child for this month’s baby dedication\, please CLICK HERE!
URL:https://wavechurch.com/event/baby-dedications-20/
CATEGORIES:Online,Great Neck,Seaboard,Norfolk,Richmond,Wilson
ATTACH;FMTTYPE=image/jpeg:https://wavechurch.com/wp-content/uploads/2023/12/Simple-Line-Modern-Logo-for-Newborn-Baby-Photographer-Presentation.jpg
END:VEVENT
BEGIN:VEVENT
DTSTART;TZID=America/New_York:20260805T193000
DTEND;TZID=America/New_York:20260805T213000
DTSTAMP:20260423T091813
CREATED:20260121T171623Z
LAST-MODIFIED:20260121T171623Z
UID:22251-1785958200-1785965400@wavechurch.com
SUMMARY:Young Adults Service
DESCRIPTION:Young adults exists to have a place to meet friends and grow in their relationship with God. \nWe meet the first Wednesday of every month at our Wave Norfolk campus\, and would love for you to join us for our upcoming services. \n6:45 PM – Leaders Rally | 7:30 PM – Service Starts \nWho is this service for?  \nOur aim at Young Adults is to provide a worship experience and community for those between the ages of 18-30\, regardless of what stage of life you are in. This could look like married with kids\, single and in college. \nWhere is the best place to park? \nThe best place to park is in the Freemason Garage\, is located directly behind the Wave Norfolk campus and is a short walking distance. 161 W Freemason St\, Norfolk\, VA 23510 \nYou can learn more about our Young Adults ministry by clicking here.
URL:https://wavechurch.com/event/young-adults-service-8/
LOCATION:NEW Norfolk Campus\, 120 College Place Norfolk\, VA 23510\, Norfolk\, VA\, 23510\, United States
CATEGORIES:Online,Great Neck,Seaboard,Norfolk
ATTACH;FMTTYPE=image/jpeg:https://wavechurch.com/wp-content/uploads/2025/04/YoungAdults.jpg
END:VEVENT
BEGIN:VEVENT
DTSTART;VALUE=DATE:20260809
DTEND;VALUE=DATE:20260813
DTSTAMP:20260423T091813
CREATED:20260423T002443Z
LAST-MODIFIED:20260423T002443Z
UID:22425-1786233600-1786579199@wavechurch.com
SUMMARY:Royal Youth Summer Camp 2026
DESCRIPTION:
URL:https://wavechurch.com/event/royal-youth-summer-camp-2026/
LOCATION:Camp Willow Run\, 190 Mangum Ln\, Littleton\, NC\, 27850\, United States
ORGANIZER;CN="Wave Church":MAILTO:events@wavechurch.com
END:VEVENT
BEGIN:VEVENT
DTSTART;VALUE=DATE:20260809
DTEND;VALUE=DATE:20260810
DTSTAMP:20260423T091813
CREATED:20260121T170656Z
LAST-MODIFIED:20260121T170656Z
UID:22240-1786233600-1786319999@wavechurch.com
SUMMARY:Baby Dedications
DESCRIPTION:We follow the Biblical pattern of dedicating children to the Lord. Jesus Himself was dedicated in the temple by his parents\, establishing dedication as a New Testament principle (Luke 2:22). We dedicate children on the second Sunday of every month following the service with a reception afterwards. This is a great time of celebration and introducing extended family and friends to Wave Church! \nTo register your child for this month’s baby dedication\, please CLICK HERE!
URL:https://wavechurch.com/event/baby-dedications-21/
CATEGORIES:Online,Great Neck,Seaboard,Norfolk,Richmond,Wilson
ATTACH;FMTTYPE=image/jpeg:https://wavechurch.com/wp-content/uploads/2023/12/Simple-Line-Modern-Logo-for-Newborn-Baby-Photographer-Presentation.jpg
END:VEVENT
BEGIN:VEVENT
DTSTART;TZID=America/New_York:20260902T193000
DTEND;TZID=America/New_York:20260902T213000
DTSTAMP:20260423T091813
CREATED:20260121T171653Z
LAST-MODIFIED:20260121T171653Z
UID:22252-1788377400-1788384600@wavechurch.com
SUMMARY:Young Adults Service
DESCRIPTION:Young adults exists to have a place to meet friends and grow in their relationship with God. \nWe meet the first Wednesday of every month at our Wave Norfolk campus\, and would love for you to join us for our upcoming services. \n6:45 PM – Leaders Rally | 7:30 PM – Service Starts \nWho is this service for?  \nOur aim at Young Adults is to provide a worship experience and community for those between the ages of 18-30\, regardless of what stage of life you are in. This could look like married with kids\, single and in college. \nWhere is the best place to park? \nThe best place to park is in the Freemason Garage\, is located directly behind the Wave Norfolk campus and is a short walking distance. 161 W Freemason St\, Norfolk\, VA 23510 \nYou can learn more about our Young Adults ministry by clicking here.
URL:https://wavechurch.com/event/young-adults-service-9/
LOCATION:NEW Norfolk Campus\, 120 College Place Norfolk\, VA 23510\, Norfolk\, VA\, 23510\, United States
CATEGORIES:Online,Great Neck,Seaboard,Norfolk
ATTACH;FMTTYPE=image/jpeg:https://wavechurch.com/wp-content/uploads/2025/04/YoungAdults.jpg
END:VEVENT
BEGIN:VEVENT
DTSTART;VALUE=DATE:20260913
DTEND;VALUE=DATE:20260914
DTSTAMP:20260423T091813
CREATED:20260121T170729Z
LAST-MODIFIED:20260121T170729Z
UID:22241-1789257600-1789343999@wavechurch.com
SUMMARY:Baby Dedications
DESCRIPTION:We follow the Biblical pattern of dedicating children to the Lord. Jesus Himself was dedicated in the temple by his parents\, establishing dedication as a New Testament principle (Luke 2:22). We dedicate children on the second Sunday of every month following the service with a reception afterwards. This is a great time of celebration and introducing extended family and friends to Wave Church! \nTo register your child for this month’s baby dedication\, please CLICK HERE!
URL:https://wavechurch.com/event/baby-dedications-22/
CATEGORIES:Online,Great Neck,Seaboard,Norfolk,Richmond,Wilson
ATTACH;FMTTYPE=image/jpeg:https://wavechurch.com/wp-content/uploads/2023/12/Simple-Line-Modern-Logo-for-Newborn-Baby-Photographer-Presentation.jpg
END:VEVENT
BEGIN:VEVENT
DTSTART;VALUE=DATE:20260930
DTEND;VALUE=DATE:20261002
DTSTAMP:20260423T091813
CREATED:20251003T003411Z
LAST-MODIFIED:20251003T003411Z
UID:22147-1790726400-1790899199@wavechurch.com
SUMMARY:Iron & Embers 2026
DESCRIPTION:
URL:https://wavechurch.com/event/iron-embers-2026/
CATEGORIES:Online,Great Neck,Seaboard,Norfolk,Richmond,Wilson
ATTACH;FMTTYPE=image/jpeg:https://wavechurch.com/wp-content/uploads/2025/09/ironandember2026.jpg
END:VEVENT
BEGIN:VEVENT
DTSTART;TZID=America/New_York:20261007T193000
DTEND;TZID=America/New_York:20261007T213000
DTSTAMP:20260423T091813
CREATED:20260121T171725Z
LAST-MODIFIED:20260121T171725Z
UID:22253-1791401400-1791408600@wavechurch.com
SUMMARY:Young Adults Service
DESCRIPTION:Young adults exists to have a place to meet friends and grow in their relationship with God. \nWe meet the first Wednesday of every month at our Wave Norfolk campus\, and would love for you to join us for our upcoming services. \n6:45 PM – Leaders Rally | 7:30 PM – Service Starts \nWho is this service for?  \nOur aim at Young Adults is to provide a worship experience and community for those between the ages of 18-30\, regardless of what stage of life you are in. This could look like married with kids\, single and in college. \nWhere is the best place to park? \nThe best place to park is in the Freemason Garage\, is located directly behind the Wave Norfolk campus and is a short walking distance. 161 W Freemason St\, Norfolk\, VA 23510 \nYou can learn more about our Young Adults ministry by clicking here.
URL:https://wavechurch.com/event/young-adults-service-10/
LOCATION:NEW Norfolk Campus\, 120 College Place Norfolk\, VA 23510\, Norfolk\, VA\, 23510\, United States
CATEGORIES:Online,Great Neck,Seaboard,Norfolk
ATTACH;FMTTYPE=image/jpeg:https://wavechurch.com/wp-content/uploads/2025/04/YoungAdults.jpg
END:VEVENT
BEGIN:VEVENT
DTSTART;VALUE=DATE:20261011
DTEND;VALUE=DATE:20261012
DTSTAMP:20260423T091813
CREATED:20260121T170807Z
LAST-MODIFIED:20260121T170807Z
UID:22242-1791676800-1791763199@wavechurch.com
SUMMARY:Baby Dedications
DESCRIPTION:We follow the Biblical pattern of dedicating children to the Lord. Jesus Himself was dedicated in the temple by his parents\, establishing dedication as a New Testament principle (Luke 2:22). We dedicate children on the second Sunday of every month following the service with a reception afterwards. This is a great time of celebration and introducing extended family and friends to Wave Church! \nTo register your child for this month’s baby dedication\, please CLICK HERE!
URL:https://wavechurch.com/event/baby-dedications-23/
CATEGORIES:Online,Great Neck,Seaboard,Norfolk,Richmond,Wilson
ATTACH;FMTTYPE=image/jpeg:https://wavechurch.com/wp-content/uploads/2023/12/Simple-Line-Modern-Logo-for-Newborn-Baby-Photographer-Presentation.jpg
END:VEVENT
BEGIN:VEVENT
DTSTART;TZID=America/New_York:20261104T193000
DTEND;TZID=America/New_York:20261104T213000
DTSTAMP:20260423T091813
CREATED:20260121T171749Z
LAST-MODIFIED:20260121T171749Z
UID:22254-1793820600-1793827800@wavechurch.com
SUMMARY:Young Adults Service
DESCRIPTION:Young adults exists to have a place to meet friends and grow in their relationship with God. \nWe meet the first Wednesday of every month at our Wave Norfolk campus\, and would love for you to join us for our upcoming services. \n6:45 PM – Leaders Rally | 7:30 PM – Service Starts \nWho is this service for?  \nOur aim at Young Adults is to provide a worship experience and community for those between the ages of 18-30\, regardless of what stage of life you are in. This could look like married with kids\, single and in college. \nWhere is the best place to park? \nThe best place to park is in the Freemason Garage\, is located directly behind the Wave Norfolk campus and is a short walking distance. 161 W Freemason St\, Norfolk\, VA 23510 \nYou can learn more about our Young Adults ministry by clicking here.
URL:https://wavechurch.com/event/young-adults-service-11/
LOCATION:NEW Norfolk Campus\, 120 College Place Norfolk\, VA 23510\, Norfolk\, VA\, 23510\, United States
CATEGORIES:Online,Great Neck,Seaboard,Norfolk
ATTACH;FMTTYPE=image/jpeg:https://wavechurch.com/wp-content/uploads/2025/04/YoungAdults.jpg
END:VEVENT
BEGIN:VEVENT
DTSTART;VALUE=DATE:20261108
DTEND;VALUE=DATE:20261109
DTSTAMP:20260423T091813
CREATED:20260121T170834Z
LAST-MODIFIED:20260121T170834Z
UID:22243-1794096000-1794182399@wavechurch.com
SUMMARY:Baby Dedications
DESCRIPTION:We follow the Biblical pattern of dedicating children to the Lord. Jesus Himself was dedicated in the temple by his parents\, establishing dedication as a New Testament principle (Luke 2:22). We dedicate children on the second Sunday of every month following the service with a reception afterwards. This is a great time of celebration and introducing extended family and friends to Wave Church! \nTo register your child for this month’s baby dedication\, please CLICK HERE!
URL:https://wavechurch.com/event/baby-dedications-24/
CATEGORIES:Online,Great Neck,Seaboard,Norfolk,Richmond,Wilson
ATTACH;FMTTYPE=image/jpeg:https://wavechurch.com/wp-content/uploads/2023/12/Simple-Line-Modern-Logo-for-Newborn-Baby-Photographer-Presentation.jpg
END:VEVENT
BEGIN:VEVENT
DTSTART;TZID=America/New_York:20261202T193000
DTEND;TZID=America/New_York:20261202T213000
DTSTAMP:20260423T091813
CREATED:20260121T171818Z
LAST-MODIFIED:20260121T171818Z
UID:22255-1796239800-1796247000@wavechurch.com
SUMMARY:Young Adults Service
DESCRIPTION:Young adults exists to have a place to meet friends and grow in their relationship with God. \nWe meet the first Wednesday of every month at our Wave Norfolk campus\, and would love for you to join us for our upcoming services. \n6:45 PM – Leaders Rally | 7:30 PM – Service Starts \nWho is this service for?  \nOur aim at Young Adults is to provide a worship experience and community for those between the ages of 18-30\, regardless of what stage of life you are in. This could look like married with kids\, single and in college. \nWhere is the best place to park? \nThe best place to park is in the Freemason Garage\, is located directly behind the Wave Norfolk campus and is a short walking distance. 161 W Freemason St\, Norfolk\, VA 23510 \nYou can learn more about our Young Adults ministry by clicking here.
URL:https://wavechurch.com/event/young-adults-service-12/
LOCATION:NEW Norfolk Campus\, 120 College Place Norfolk\, VA 23510\, Norfolk\, VA\, 23510\, United States
CATEGORIES:Online,Great Neck,Seaboard,Norfolk
ATTACH;FMTTYPE=image/jpeg:https://wavechurch.com/wp-content/uploads/2025/04/YoungAdults.jpg
END:VEVENT
BEGIN:VEVENT
DTSTART;VALUE=DATE:20261213
DTEND;VALUE=DATE:20261214
DTSTAMP:20260423T091813
CREATED:20260121T170903Z
LAST-MODIFIED:20260121T170903Z
UID:22244-1797120000-1797206399@wavechurch.com
SUMMARY:Baby Dedications
DESCRIPTION:We follow the Biblical pattern of dedicating children to the Lord. Jesus Himself was dedicated in the temple by his parents\, establishing dedication as a New Testament principle (Luke 2:22). We dedicate children on the second Sunday of every month following the service with a reception afterwards. This is a great time of celebration and introducing extended family and friends to Wave Church! \nTo register your child for this month’s baby dedication\, please CLICK HERE!
URL:https://wavechurch.com/event/baby-dedications-25/
CATEGORIES:Online,Great Neck,Seaboard,Norfolk,Richmond,Wilson
ATTACH;FMTTYPE=image/jpeg:https://wavechurch.com/wp-content/uploads/2023/12/Simple-Line-Modern-Logo-for-Newborn-Baby-Photographer-Presentation.jpg
END:VEVENT
END:VCALENDAR